BEGIN:VCALENDAR
VERSION:2.0
PRODID:-//ChamberMaster//Event Calendar 2.0//EN
METHOD:PUBLISH
X-PUBLISHED-TTL:P3D
REFRESH-INTERVAL:P3D
CALSCALE:GREGORIAN
BEGIN:VEVENT
DTSTART:20250715T220000Z
DTEND:20250716T000000Z
X-MICROSOFT-CDO-ALLDAYEVENT:FALSE
SUMMARY:Adopt a Cow
DESCRIPTION:Stop by to adopt a Mini-Moo and fill out an adoption certificate! Free family event!
X-ALT-DESC;FMTTYPE=text/html:Stop by to adopt a Mini-Moo and fill out an adoption certificate! Free family event!
LOCATION:Chick-fil-A Bloomingdale
UID:e.376.7158
SEQUENCE:3
DTSTAMP:20260421T093924Z
URL:https://www.bloomingdalechamber.com/events/details/adopt-a-cow-7158
END:VEVENT

END:VCALENDAR
