BEGIN:VCALENDAR
VERSION:2.0
PRODID:-//ChamberMaster//Event Calendar 2.0//EN
METHOD:PUBLISH
X-PUBLISHED-TTL:P3D
REFRESH-INTERVAL:P3D
CALSCALE:GREGORIAN
BEGIN:VEVENT
DTSTART:20261015T220000Z
DTEND:20261016T000000Z
X-MICROSOFT-CDO-ALLDAYEVENT:FALSE
SUMMARY:BAWIB - Cocktails and Conversation With Go Far VIP Travel
DESCRIPTION:People do business and refer business to those they know and trust\, so join us for this fun evening building those meaningful connections. Free for BAWIB members - please RSVP.\n\n\n\nIf you are not a Bloomingdale Area Women in Business (BAWIB)\, there is a $15 fee to join us.
X-ALT-DESC;FMTTYPE=text/html:<br />\nPeople do business and refer business to those they know and trust\, so join us for this fun evening building those meaningful connections. Free for BAWIB members - please RSVP.<br />\n<br />\nIf you are not a Bloomingdale Area Women in Business (BAWIB)\, there is a $15 fee to join us.<br />\n<br />\n&nbsp\;
LOCATION:
UID:e.376.7757
SEQUENCE:3
DTSTAMP:20260420T100043Z
URL:https://www.bloomingdalechamber.com/events/details/bawib-cocktails-and-conversation-with-go-far-vip-travel-7757
END:VEVENT

END:VCALENDAR
