BEGIN:VCALENDAR
VERSION:2.0
PRODID:-//ChamberMaster//Event Calendar 2.0//EN
METHOD:PUBLISH
X-PUBLISHED-TTL:P3D
REFRESH-INTERVAL:P3D
CALSCALE:GREGORIAN
BEGIN:VEVENT
DTSTART:20260514T220000Z
DTEND:20260515T010000Z
X-MICROSOFT-CDO-ALLDAYEVENT:FALSE
SUMMARY:Build Your Own Sundae - PUBLIC INVITED
DESCRIPTION:Build-Your-Own Ice Cream Sundae! \n\nYou're invited to a sweet and fun-filled event for a great cause!\n\nJoin us for our Build-Your-Own Ice Cream Sundae\, where you can create your dream sundae with all your favorite toppings while helping support an important mission.\n\nDate: Thursday\, May 14\, 2026\n\nTime: 5:00 - 8:00 p.m.\n\nLocation: Mapleberry Pancake House \n\nWhat to Expect:\n\n\n	A delicious variety of ice cream flavors\n	Tons of toppings (sprinkles\, chocolate syrup\, whipped cream\, fruit\, candies & more!)\n	Fun for all ages\n	Community vibes and a great cause\n\n\nCost: $5 in Advance OR $7 at the door\n\n\n\nAll proceeds go toward The Hope Center\n\nBring your friends\, family\, and sweet tooth every scoop makes a difference!\n\nRSVP: Purchase Tickets for Hope Center Ice Cream Fundraiser\n\nWe can't wait to see you there!
X-ALT-DESC;FMTTYPE=text/html:<p><strong>Build-Your-Own Ice Cream Sundae!</strong>&nbsp\;</p>\n\n<p>You&rsquo\;re invited to a sweet and fun-filled event for a great cause!</p>\n\n<p>Join us for our <strong>Build-Your-Own Ice Cream Sundae</strong>\, where you can create your dream sundae with all your favorite toppings&mdash\;while helping support an important mission.</p>\n\n<p><strong>Date:</strong> Thursday\, May 14\, 2026<br />\n<strong>Time:</strong> 5:00 - 8:00 p.m.<br />\n<strong>Location:</strong> Mapleberry Pancake House&nbsp\;</p>\n\n<p><strong>What to Expect:</strong></p>\n\n<ul>\n	<li>A delicious variety of ice cream flavors</li>\n	<li>Tons of toppings (sprinkles\, chocolate syrup\, whipped cream\, fruit\, candies &amp\; more!)</li>\n	<li>Fun for all ages</li>\n	<li>Community vibes and a great cause</li>\n</ul>\n\n<p><strong>Cost:</strong> $5 in Advance OR $7 at the door<br />\n<br />\nAll proceeds go toward The Hope Center</p>\n\n<p>Bring your friends\, family\, and sweet tooth&mdash\;every scoop makes a difference!</p>\n\n<p><strong>RSVP:</strong> <a href="https://bloomingdalealliancechurch.breezechms.com/form/35476530">Purchase Tickets for Hope Center Ice Cream Fundraiser</a></p>\n\n<p>We can&rsquo\;t wait to see you there!&nbsp\;</p>\n
LOCATION:Mapleberry Pancake House 1276 Kuhn Rd\, Carol Stream\, IL 60188
UID:e.376.8069
SEQUENCE:3
DTSTAMP:20260423T215132Z
URL:https://www.bloomingdalechamber.com/events/details/build-your-own-sundae-public-invited-8069
END:VEVENT

END:VCALENDAR
