BEGIN:VCALENDAR
VERSION:2.0
PRODID:-//ChamberMaster//Event Calendar 2.0//EN
METHOD:PUBLISH
X-PUBLISHED-TTL:P3D
REFRESH-INTERVAL:P3D
CALSCALE:GREGORIAN
BEGIN:VEVENT
DTSTART:20260511T233000Z
DTEND:20260512T003000Z
X-MICROSOFT-CDO-ALLDAYEVENT:FALSE
SUMMARY:Foam Rolling Workshop
DESCRIPTION:Our in-office workshops are interactive\, hands-on sessions designed to help you move better\, feel stronger\, and stay out of pain. Each workshop focuses on practical strategies like mobility\, strength\, and injury prevention\, giving you simple tools you can apply right away in your daily life or workouts. Whether you're dealing with aches and pains or just looking to improve performance\, these sessions are built to educate\, empower\, and keep you moving forward.
X-ALT-DESC;FMTTYPE=text/html:Our in-office workshops are interactive\, hands-on sessions designed to help you move better\, feel stronger\, and stay out of pain. Each workshop focuses on practical strategies like mobility\, strength\, and injury prevention\, giving you simple tools you can apply right away in your daily life or workouts. Whether you&rsquo\;re dealing with aches and pains or just looking to improve performance\, these sessions are built to educate\, empower\, and keep you moving forward.
LOCATION:Reset Chiropractic & Wellness Center. 148 S Bloomingdale Rd Ste 107\, Bloomingdale\, IL 60108
UID:e.376.8075
SEQUENCE:3
DTSTAMP:20260423T075010Z
URL:https://www.bloomingdalechamber.com/events/details/foam-rolling-workshop-8075
END:VEVENT

END:VCALENDAR
