BEGIN:VCALENDAR
VERSION:2.0
PRODID:-//ChamberMaster//Event Calendar 2.0//EN
METHOD:PUBLISH
X-PUBLISHED-TTL:P3D
REFRESH-INTERVAL:P3D
CALSCALE:GREGORIAN
BEGIN:VEVENT
DTSTART:20260515T180000Z
DTEND:20260515T200000Z
X-MICROSOFT-CDO-ALLDAYEVENT:FALSE
SUMMARY:ROMA Tang Soo Do 3rd Year Anniversay Open House
DESCRIPTION:Come join us for our 3 year Open House celebration and learn more about our school\, our programs and the events we offer.
X-ALT-DESC;FMTTYPE=text/html:Come join us for our 3 year Open House celebration and learn more about our school\, our programs and the events we offer.
LOCATION:
UID:e.376.8007
SEQUENCE:3
DTSTAMP:20260423T204049Z
URL:https://www.bloomingdalechamber.com/events/details/roma-tang-soo-do-3rd-year-anniversay-open-house-8007
END:VEVENT

END:VCALENDAR
