BEGIN:VCALENDAR
VERSION:2.0
PRODID:-//ChamberMaster//Event Calendar 2.0//EN
METHOD:PUBLISH
X-PUBLISHED-TTL:P3D
REFRESH-INTERVAL:P3D
CALSCALE:GREGORIAN
BEGIN:VEVENT
DTSTART:20260603T233000Z
DTEND:20260806T003000Z
X-MICROSOFT-CDO-ALLDAYEVENT:FALSE
SUMMARY:Walk to Run
DESCRIPTION:Ready to move more\, have fun\, and train for a 5K? Join our 10-week Walk-to-Run program designed to safely build you up to running 3.1 miles. Led by Dr. Krystian Garbicz and Dr. Erin Strauch-Ducat of Reset Chiropractic & Wellness Center\, each session includes guided training plus education on stretching\, footwear\, heart rate monitoring\, and strengthening. Participants should be able to comfortably walk 30 minutes before starting. M wimy po polsku. Cost: $50 Residents / $70 Non-Residents ?? In partnership with Bloomingdale\, Roselle\, & Medinah Park Districts (Non-residents should register through Roselle Park District) Registration Links: Roselle Park District: https://www.rparks.org/ Code: 122445-A Bloomingdale Park District: https://www.bloomingdaleparks.org/ Code: 403556-B1 Medinah Park District: https://www.medinahparks.org/ Code: 306080
X-ALT-DESC;FMTTYPE=text/html:Ready to move more\, have fun\, and train for a 5K? Join our 10-week Walk-to-Run program designed to safely build you up to running 3.1 miles. Led by Dr. Krystian Garbicz and Dr. Erin Strauch-Ducat of Reset Chiropractic &amp\; Wellness Center\, each session includes guided training plus education on stretching\, footwear\, heart rate monitoring\, and strengthening. Participants should be able to comfortably walk 30 minutes before starting. M&oacute\;wimy po polsku. Cost: $50 Residents / $70 Non-Residents ?? In partnership with Bloomingdale\, Roselle\, &amp\; Medinah Park Districts (Non-residents should register through Roselle Park District) Registration Links: Roselle Park District: https://www.rparks.org/ Code: 122445-A Bloomingdale Park District: https://www.bloomingdaleparks.org/ Code: 403556-B1 Medinah Park District: https://www.medinahparks.org/ Code: 306080
LOCATION:Clauss Recreation Center
UID:e.376.8076
SEQUENCE:3
DTSTAMP:20260422T025724Z
URL:https://www.bloomingdalechamber.com/events/details/walk-to-run-8076
END:VEVENT

END:VCALENDAR
